Workbook

Sheet Title
A7: SASKATCHEWAN UNION OF NURSES
A9: LOCAL
C11: Local Name:
A15: FINANCIAL REPORTING
C19: REPORTING PERIOD: | F19: to

Sheet Chart of Accounts
A1: CHART OF ACCOUNTS
A3: Local
A4: To assist with completing the Receipts and Disbursements Journal.
A6: RECEIPTS (INCOME) | B6: DESCRIPTION
A7: Local Dues | B7: All dues monies received by the Local from the employer including operating, special and fax machine grants.
A8: Other | B8: All other income received by the Local such as on fees, interest earned on investments, etc.
A10: DISBURSEMENTS (EXPENSES) | B10: DESCRIPTION
A11: Honorariums | B11: Amount payable to Local executive members to manage the operations and affairs of the Local. Honorariums are taxable income to the recipient.
A12: Income Continuance | B12: Wage and benefits costs for time taken off from work by executive or members of the Local to do the work of the union. (Such as to attend a Regional Board meeting, make a presentation or other union leave purposes.) Income continuance is taxable income to the recipient.
A13: Administration | B13: Expenses for office supplies such as paper and envelopes, postage, telephone, internet, fax, etc. and other administration costs such as bank interest charges.
A14: Travel | B14: All expenses incurred by members (including executive) for the purpose of conducting union business in your Local such as accommodations, mileage, per diem costs, etc. Do not list expenses related to members education or workshops.
A15: Meeting Expenses | B15: Expenses incurred to conduct general and annual meeting business of the Local such as room rentals, refreshments or food.
A16: Public Relations | B16: Expenses incurred for the benefit of the members to provide an educational, a workshop or activity to problem solve an issue, bargaining preparations and negotiations or organize a public relations campaign, etc. Such expenses may include cost of a speaker, audio or visual equipment, room rental or food and refreshments.
A17: Member Education Supports | B17: All expenses incurred by any member of the Local (including executive) to attend educational events such as CLC, SFL, CFNU or other external educations including registration fees, lost wages, travel, accommodation or per diem costs, etc.
A18: Other | B18: Any expense that doesn't fall within the other categories above.

Sheet Receipt + Disbursement Journal
A1: RECEIPTS AND DISBURSEMENTS JOURNAL | I1: Reporting For the Period: | L1: =Title!E19 -> 0 | M1: to | O1: =Title!H19 -> 0
A2: Local Name: | B2: =Title!D11 -> 0
A4: Fiscal Period: | D4: RECEIPTS JOURNAL | F4: DISBURSEMENTS JOURAL | N4: BANK
A5: Date (DD/MM/YYYY) | B5: Cheque No. or Receipt No. | C5: Description | D5: Dues | E5: Other | F5: Honorariums | G5: Income Continuance | H5: Administration | I5: Travel | J5: Meeting Expenses | K5: Public Relations | L5: Member Education Supports | M5: Other | N5: Receipts | O5: Disbursements | P5: Running Balance | Q5: Cleared Bank (x)
C6: Opening Balance | N6: =D6+E6 -> 0 | O6: =SUM(F6:M6) -> 0 | P6: 0
N7: =D7+E7 -> 0 | O7: =SUM(F7:M7) -> 0 | P7: =P6+N7-O7 -> 0
N8: =D8+E8 -> 0 | O8: =SUM(F8:M8) -> 0 | P8: =P7+N8-O8 -> 0
N9: =D9+E9 -> 0 | O9: =SUM(F9:M9) -> 0 | P9: =P8+N9-O9 -> 0
N10: =D10+E10 -> 0 | O10: =SUM(F10:M10) -> 0 | P10: =P9+N10-O10 -> 0
N11: =D11+E11 -> 0 | O11: =SUM(F11:M11) -> 0 | P11: =P10+N11-O11 -> 0
N12: =D12+E12 -> 0 | O12: =SUM(F12:M12) -> 0 | P12: =P11+N12-O12 -> 0
N13: =D13+E13 -> 0 | O13: =SUM(F13:M13) -> 0 | P13: =P12+N13-O13 -> 0
N14: =D14+E14 -> 0 | O14: =SUM(F14:M14) -> 0 | P14: =P13+N14-O14 -> 0
N15: =D15+E15 -> 0 | O15: =SUM(F15:M15) -> 0 | P15: =P14+N15-O15 -> 0
N16: =D16+E16 -> 0 | O16: =SUM(F16:M16) -> 0 | P16: =P15+N16-O16 -> 0
N17: =D17+E17 -> 0 | O17: =SUM(F17:M17) -> 0 | P17: =P16+N17-O17 -> 0
N18: =D18+E18 -> 0 | O18: =SUM(F18:M18) -> 0 | P18: =P17+N18-O18 -> 0
... N39: =D39+E39 -> 0 | O39: =SUM(F39:M39) -> 0 | P39: =P38+N39-O39 -> 0
A40: Totals: | D40: =SUM(D6:D39) -> 0 | E40: =SUM(E6:E39) -> 0 | F40: =SUM(F6:F39) -> 0 | G40: =SUM(G6:G39) -> 0 | H40: =SUM(H6:H39) -> 0 | I40: =SUM(I6:I39) -> 0 | J40: =SUM(J6:J39) -> 0 | K40: =SUM(K6:K39) -> 0 | ... O40: =SUM(O6:O39) -> 0
C41: TOTAL RECEIPTS: | E41: =E40+D40 -> 0 | L41: TOTAL EXPENSES: | M41: =SUM(F40:M40) -> 0 | O41: =(-O40+N40) -> 0
L43: BALANCE PER BOOKS: | M43: =P6+E41-M41 -> 0

Sheet Bank Reconcilation
A1: BANK RECONCILIATION
A3: Local Name: | B3: =Title!D11 -> 0
B5: =Title!E19 -> 0 | C5: to | E5: =Title!H19 -> 0
A11: Balance per Books - Opening Balance: | E11: ='Receipt + Disbursement Journal'!P6 -> 0
A13: Add: | B13: Receipts | E13: ='Receipt + Disbursement Journal'!N40 -> 0
A15: Deduct | B15: Expenses | E15: ='Receipt + Disbursement Journal'!O40 -> 0
A17: Balance per Books - Closing Balance: | E17: =E11+E13-E15 -> 0 | F17: *
A21: Bank Balance as per Bank Statement - at year end: | E21: 0
A23: Add | B23: Deposits not recorded in bank:
B24: Date | C24: Description | D24: Amount
D25: 0
D26: 0
D27: 0
D28: 0 | E28: =SUM(D25:D28) -> 0
A30: Deduct | B30: Outstanding Cheques
B31: Cheque No.: | C31: Description | D31: Amount
D32: 0
D33: 0
D34: 0
D35: 0
D36: 0
D37: 0
D38: 0
D39: 0
A40: Total of Outstanding Cheques: | E40: =SUM(D32:D39) -> 0
A42: TRUE Bank Balance as per Bank Statement - at year end: | E42: =E21+E28-E40 -> 0 | F42: *
A44: * The Balance per Books must equal the Balance per Bank Statement at End of Period.

Sheet Treasurers Report
A1: TREASURER'S REPORT
A3: LOCAL NAME: | B3: =Title!D11 -> 0
A4: Reporting for the Period: | B4: =Title!E19 -> 0 | C4: to | D4: =Title!H19 -> 0
A7: INCOME AND EXPENSE STATEMENT | D7: FUND BALANCE STATEMENT
A9: INCOME | D9: ASSETS AND DEBTS
A10: ='Receipt + Disbursement Journal'!D5 -> Dues | B10: ='Receipt + Disbursement Journal'!D40 -> 0
A11: ='Receipt + Disbursement Journal'!E5 -> Other | B11: ='Receipt + Disbursement Journal'!E40 -> 0 | D11: ASSETS
A12: TOTAL INCOME: | B12: =SUM(B10:B11) -> 0 | D12: True Bank Balance: | E12: ='Bank Reconcilation'!E17 -> 0
D13: Investments: | E13: 0
A14: EXPENSES | D14: Money Receivable: | E14: 0
A15: ='Receipt + Disbursement Journal'!F5 -> Honorariums | B15: ='Receipt + Disbursement Journal'!F40 -> 0 | D15: Cash On Hand | E15: =SUM(E12:E14) -> 0
A16: ='Receipt + Disbursement Journal'!G5 -> Income Continuance | B16: ='Receipt + Disbursement Journal'!G40 -> 0
A17: ='Receipt + Disbursement Journal'!H5 -> Administration | B17: ='Receipt + Disbursement Journal'!H40 -> 0 | D17: Value of Equipment (at cost):
A18: ='Receipt + Disbursement Journal'!I5 -> Travel | B18: ='Receipt + Disbursement Journal'!I40 -> 0 | D18: TOTAL ASSETS: | E18: =E17+E15 -> 0
A19: ='Receipt + Disbursement Journal'!J5 -> Meeting Expenses | B19: ='Receipt + Disbursement Journal'!J40 -> 0
A20: ='Receipt + Disbursement Journal'!K5 -> Public Relations | B20: ='Receipt + Disbursement Journal'!K40 -> 0 | D20: DEBTS
A21: ='Receipt + Disbursement Journal'!L5 -> Member Education Supports | B21: ='Receipt + Disbursement Journal'!L40 -> 0 | D21: Money Owing: | E21: 0
A22: ='Receipt + Disbursement Journal'!M5 -> Other | B22: ='Receipt + Disbursement Journal'!M40 -> 0
D23: TOTAL DEBTS: | E23: =SUM(E21:E22) -> 0
A25: TOTAL EXPENSES: | B25: =SUM(B15:B23) -> 0 | D25: NET ASSET VALUE: | E25: =E18-E23 -> 0
A27: BALANCE FOR THE YEAR: | B27: =B12-B25 -> 0 | D27: FUND BALANCE: | E27: =E15-E23 -> 0
A29: (Make additional comments. If everything is in order and correct, no comment is necessary.)
A31: Investments:
A32: Financial Institution | B32: Amount | D32: Maturity Date
A36: Equipment:
A37: Description | B37: Purchase Date | D37: Estimated Value
A42: Please insert any additional comments in this section. This text may be deleted.

Sheet Budget Detail
A1: BUDGET (Financial Details)
A3: Local Name: | B3: =Title!D11 -> 0
A4: For the Period: | C4: =Title!E19 -> 0 | D4: to | F4: =Title!H19 -> 0
A5: Number of members this local represents:
A8: REVENUE BUDGET: | G8: Amount
C9: # of Members | E9: Monthly Dues | F9: Months | G9: 0
A10: Local Dues | G10: =C10*E10*F10 -> 0
A11: Other | G11: 0
A12: TOTAL REVEUNE BUDGET | G12: =SUM(G9:G11) -> 0
A15: EXPENDITURE BUDGET:
A17: 1. Honorariums for Executives
A18: Description Details
A19: Local President | G19: 0
A20: Vice President (VP) | G20: 0
A21: Secretary | G21: 0
A22: Treasurer | G22: 0
A23: Total | G23: =SUM(G19:G22) -> 0
A25: 2. Salary Continuance
A26: Description Details | C26: # of Shifts | E26: Shift Hours | F26: Rate | G26: Total
A27: Executive
A28: Local President | G28: =C28*E28*F28 -> 0
A29: Vice President (VP) | G29: =C29*E29*F29 -> 0
A30: Secretary | G30: =C30*E30*F30 -> 0
A31: Treasurer | G31: =C31*E31*F31 -> 0
G32: =C32*E32*F32 -> 0
G33: =C33*E33*F33 -> 0
A34: Members | G34: =C34*E34*F34 -> 0
G35: =C35*E35*F35 -> 0
G36: =C36*E36*F36 -> 0
A37: Subtotal: | G37: =SUM(G27:G36) -> 0
A39: Benefits | F39: 0.2265 | G39: =G37*F39 -> 0
A41: Total | G41: =G39+G37 -> 0
A44: 3. Administration
A45: Description Details | C45: Members | E45: # of Times | F45: Rate
G46: =F46*E46*C46 -> 0
G47: =F47*E47*C47 -> 0
G48: =F48*E48*C48 -> 0
G49: =F49*E49 -> 0
G50: =F50*E50 -> 0
G51: =F51*E51*C51 -> 0
...

Sheet Budget Summary
A1: BUDGET SUMMARY
A3: Local Name: | B3: ='Budget Detail'!B3 -> 0
A4: Reporting Period: | B4: =Title!E19 -> 0 | D4: to | E4: =Title!H19 -> 0
B7: TOTAL RECEIPTS: | D7: ='Budget Detail'!G12 -> 0
B9: EXPENSES
B10: Honorariums | D10: ='Budget Detail'!G23 -> 0
B11: Income Continuance | D11: ='Budget Detail'!G41 -> 0
B12: Operating Expenses | D12: ='Budget Detail'!G53 -> 0
B13: Travel | D13: ='Budget Detail'!G62 -> 0
B14: Meeting Expenses | D14: ='Budget Detail'!G71 -> 0
B15: Public Relations | D15: ='Budget Detail'!G77 -> 0
B16: Member Education | D16: ='Budget Detail'!G86 -> 0
B17: Other | D17: ='Budget Detail'!G92 -> 0
B18: TOTAL EXPENSES: | D18: =SUM(D10:D17) -> 0
B20: Profit (Loss) | D20: =+D7-D18 -> 0
